BEGIN:VCALENDAR
VERSION:2.0
PRODID:-//CGP+L - ECPv6.10.3//NONSGML v1.0//EN
CALSCALE:GREGORIAN
METHOD:PUBLISH
X-ORIGINAL-URL:https://cgpl.org.gt
X-WR-CALDESC:Eventos para CGP+L
REFRESH-INTERVAL;VALUE=DURATION:PT1H
X-Robots-Tag:noindex
X-PUBLISHED-TTL:PT1H
BEGIN:VTIMEZONE
TZID:America/Guatemala
BEGIN:STANDARD
TZOFFSETFROM:-0600
TZOFFSETTO:-0600
TZNAME:CST
DTSTART:20250101T000000
END:STANDARD
END:VTIMEZONE
BEGIN:VEVENT
DTSTART;TZID=America/Guatemala:20251015T110000
DTEND;TZID=America/Guatemala:20251015T130000
DTSTAMP:20260420T053748
CREATED:20251002T171956Z
LAST-MODIFIED:20251002T171956Z
UID:6333-1760526000-1760533200@cgpl.org.gt
SUMMARY:Jornada técnica: Protección de la Naturaleza: Gestión sostenible del agua\, eficiencia energetica y diversidad de Guatemala
DESCRIPTION:
URL:https://cgpl.org.gt/event/jornada-tecnica-proteccion-de-la-naturaleza-gestion-sostenible-del-agua-eficiencia-energetica-y-diversidad-de-guatemala/
CATEGORIES:Jornada Técnica virtual - Academia Ambiental
ATTACH;FMTTYPE=image/jpeg:https://cgpl.org.gt/wp-content/uploads/2025/10/Jornada-Tecnica-octubre.jpeg
END:VEVENT
END:VCALENDAR