BEGIN:VCALENDAR
VERSION:2.0
PRODID:-//CGP+L - ECPv6.10.3//NONSGML v1.0//EN
CALSCALE:GREGORIAN
METHOD:PUBLISH
X-ORIGINAL-URL:https://cgpl.org.gt
X-WR-CALDESC:Eventos para CGP+L
REFRESH-INTERVAL;VALUE=DURATION:PT1H
X-Robots-Tag:noindex
X-PUBLISHED-TTL:PT1H
BEGIN:VTIMEZONE
TZID:America/Guatemala
BEGIN:STANDARD
TZOFFSETFROM:-0600
TZOFFSETTO:-0600
TZNAME:CST
DTSTART:20250101T000000
END:STANDARD
END:VTIMEZONE
BEGIN:VEVENT
DTSTART;TZID=America/Guatemala:20250725T100000
DTEND;TZID=America/Guatemala:20250725T120000
DTSTAMP:20260420T101359
CREATED:20250710T194928Z
LAST-MODIFIED:20250710T194928Z
UID:6014-1753437600-1753444800@cgpl.org.gt
SUMMARY:Jornada Técnica Virtual/ Soluciones Energéticas Inteligentes: Tecnología\, Gestión y Calidad
DESCRIPTION:
URL:https://cgpl.org.gt/event/jornada-tecnica-virtual-soluciones-energeticas-inteligentes-tecnologia-gestion-y-calidad/
CATEGORIES:Jornada Técnica virtual - Academia Ambiental
ATTACH;FMTTYPE=image/jpeg:https://cgpl.org.gt/wp-content/uploads/2025/07/Artes-Julio_CGPmL-2025_5.jpg
END:VEVENT
END:VCALENDAR